BEGIN:VCALENDAR
PRODID:-//HH//NONSGML Cascade Server//EN
VERSION:2.0
X-WR-CALNAME:ThunderWolves  High School ELITE Football Camp
X-WR-TIMEZONE:America/New_York
X-MS-OLK-FORCEINSPECTOROPEN:TRUE
X-WR-CALDESC:ThunderWolves High School  ELITE Football Camps
BEGIN:VTIMEZONE
TZID:America/New_York
BEGIN:DAYLIGHT
TZOFFSETFROM:-0500
TZOFFSETTO:-0400
TZNAME:EDT
DTSTART:19700308T020000
RRULE:FREQ=YEARLY;BYMONTH=3;BYDAY=2SU
END:DAYLIGHT
BEGIN:STANDARD
TZOFFSETFROM:-0400
TZOFFSETTO:-0500
TZNAME:EST
DTSTART:19701101T020000
RRULE:FREQ=YEARLY;BYMONTH=11;BYDAY=1SU
END:STANDARD
END:VTIMEZONE
BEGIN:VEVENT
DTSTART:20170605T130000
DTEND:20170608T110000
DTSTAMP:20170608T103129
UID:36c8929f9e8e0b940b2361acb1286a33
CREATED:20170523T132853
DESCRIPTION:The 2017 High School Team Camp is a full contact camp designed
 to prepare teams for the upcoming season.
LAST-MODIFIED:20170523T142606
LOCATION:
SEQUENCE:0
STATUS:CONFIRMED
SUMMARY:ThunderWolves  High School ELITE Football Camp
TRANSP:OPAQUE
END:VEVENT
BEGIN:VEVENT
DTSTART:20170605T130000
DTEND:20170608T110000
DTSTAMP:20170608T103129
UID:36c8929f9e8e0b940b2361acb1286a33
CREATED:20170523T132853
DESCRIPTION:The 2017 High School Team Camp is a full contact camp designed
 to prepare teams for the upcoming season.
LAST-MODIFIED:20170523T142606
LOCATION:
SEQUENCE:0
STATUS:CONFIRMED
SUMMARY:ThunderWolves  High School ELITE Football Camp
TRANSP:OPAQUE
END:VEVENT
END:VCALENDAR
# <pass-through></pass-through>